BEGIN:VCALENDAR
VERSION:2.0
PRODID:spatie/icalendar-generator
DESCRIPTION:Events from Milan Township
X-WR-CALDESC:Events from Milan Township
REFRESH-INTERVAL;VALUE=DURATION:PT1440M
X-PUBLISHED-TTL:PT1440M
BEGIN:VTIMEZONE
TZID:America/New_York
BEGIN:STANDARD
DTSTART:20251102T020000Z
TZOFFSETFROM:-0400
TZOFFSETTO:-0500
END:STANDARD
BEGIN:DAYLIGHT
DTSTART:20260308T020000Z
TZOFFSETFROM:-0500
TZOFFSETTO:-0400
END:DAYLIGHT
BEGIN:STANDARD
DTSTART:20261101T020000Z
TZOFFSETFROM:-0400
TZOFFSETTO:-0500
END:STANDARD
END:VTIMEZONE
BEGIN:VTIMEZONE
TZID:UTC
BEGIN:STANDARD
DTSTART:20250725T194406Z
TZOFFSETFROM:+0000
TZOFFSETTO:+0000
END:STANDARD
END:VTIMEZONE
BEGIN:VEVENT
UID:277-2
DTSTAMP:20260421T194406Z
SUMMARY:Trustees Meeting
LOCATION:The Milan Township Hall 24 Park Street  Milan Ohio 44846
ORGANIZER;CN=Lorain Clawson:MAILTO:intern.milantwp@gmail.com
RRULE:FREQ=MONTHLY;BYDAY=1WE;UNTIL=20270106T000000Z
DTSTART;TZID=America/New_York:20260506T190000
DTEND;TZID=America/New_York:20260506T200000
X-ALT-DESC;FMTTYPE=TEXT/HTML:
CATEGORIES:Trustees Meeting,  General
URL;VALUE=URI:https://milantwp.org/mc-events/trustees-meeting/?mc_id=277
METHOD:PUBLISH
END:VEVENT
END:VCALENDAR